BEGIN:VCALENDAR
VERSION:2.0
PRODID:-//Wind Adventures - ECPv6.15.20//NONSGML v1.0//EN
CALSCALE:GREGORIAN
METHOD:PUBLISH
X-ORIGINAL-URL:https://wind-adventures.com
X-WR-CALDESC:Events for Wind Adventures
REFRESH-INTERVAL;VALUE=DURATION:PT1H
X-Robots-Tag:noindex
X-PUBLISHED-TTL:PT1H
BEGIN:VTIMEZONE
TZID:America/Marigot
BEGIN:STANDARD
TZOFFSETFROM:-0400
TZOFFSETTO:-0400
TZNAME:AST
DTSTART:20250101T000000
END:STANDARD
END:VTIMEZONE
BEGIN:VTIMEZONE
TZID:America/New_York
BEGIN:DAYLIGHT
TZOFFSETFROM:-0500
TZOFFSETTO:-0400
TZNAME:EDT
DTSTART:20250309T070000
END:DAYLIGHT
BEGIN:STANDARD
TZOFFSETFROM:-0400
TZOFFSETTO:-0500
TZNAME:EST
DTSTART:20251102T060000
END:STANDARD
BEGIN:DAYLIGHT
TZOFFSETFROM:-0500
TZOFFSETTO:-0400
TZNAME:EDT
DTSTART:20260308T070000
END:DAYLIGHT
BEGIN:STANDARD
TZOFFSETFROM:-0400
TZOFFSETTO:-0500
TZNAME:EST
DTSTART:20261101T060000
END:STANDARD
BEGIN:DAYLIGHT
TZOFFSETFROM:-0500
TZOFFSETTO:-0400
TZNAME:EDT
DTSTART:20270314T070000
END:DAYLIGHT
BEGIN:STANDARD
TZOFFSETFROM:-0400
TZOFFSETTO:-0500
TZNAME:EST
DTSTART:20271107T060000
END:STANDARD
END:VTIMEZONE
BEGIN:VEVENT
DTSTART;TZID=America/Marigot:20260203T090000
DTEND;TZID=America/Marigot:20260203T130000
DTSTAMP:20260423T011619
CREATED:20260117T153810Z
LAST-MODIFIED:20260202T023305Z
UID:4849-1770109200-1770123600@wind-adventures.com
SUMMARY:Whales watching tour - 4 hours 100 € per person
DESCRIPTION:Whales watching tour – 4 hours trip 100 € – \nA 4 hours trip to encounter humpback whales on the Anguilla bank. Whales aren’t not garanteed\, as they can be far\, our success rate is 85 %. On each tour\, you will: \n\nlearn about humpback whales on the Anguilla bank (certified guide)\nlisten with the hydrophone\nhave a stop on one of the island or beach for a swim or snorkeling\nenjoy a nice boat tour\n\n\n\n\n\n\n\n\n\n\n\n\n\n\n\n\n\n\n\n\n\n\n\n\n\n\n\n\n\n\n\n\n\n\n\n\n\n\n  \n\nmotorboat 29 ft – 8 passengers maximum\ntour confirmed with a minimum of 7 passengers\ndeparture from Anse Marcel\nincluded: drinks ( soft drinks and beers)\, Guide\, hydrophone\,\ncan de canceled due to bad weather\n\nLearn more about humback whales on the Anguilla bank \n  \n  \n  \n 
URL:https://wind-adventures.com/event/whales-watching-tour-4-hours-100-e-per-person/
CATEGORIES:Event,Shared charter,Whales watching tour
ATTACH;FMTTYPE=image/jpeg:https://wind-adventures.com/wp-content/uploads/2025/11/axopar_29_sun_top_grand_case_boat-charter.jpg
END:VEVENT
BEGIN:VEVENT
DTSTART;TZID=America/New_York:20260205T150000
DTEND;TZID=America/New_York:20260205T180000
DTSTAMP:20260423T011619
CREATED:20260108T185157Z
LAST-MODIFIED:20260118T152528Z
UID:4799-1770303600-1770314400@wind-adventures.com
SUMMARY:Catamaran Sunset (Tintamarre)  shared charter  75 € per person -3 hours
DESCRIPTION:Embark on a catamaran sunset for a 3 hours sailing trip to Tintamare island – Green cay \n\nsnorkelling\nobserve sea turtles\nrelax on the beach ( or on our large watermat)\ndrinks included ( softdrinks: Club Soda\, Ice tea\, Coke\, juice\, water) \, beers and rosé.\ndDeparture ture from Orient beach\n\nDeparture from Orient beach 3 pm – Back 6 pm \n  \n  \n  \n 
URL:https://wind-adventures.com/event/catamaran-sunset-tintamarre-shared-charter-75-e-per-person-3-hours/
CATEGORIES:Shared charter
ATTACH;FMTTYPE=image/jpeg:https://wind-adventures.com/wp-content/uploads/2025/07/st_barth_sunset_colombier.jpg
END:VEVENT
BEGIN:VEVENT
DTSTART;TZID=America/Marigot:20260207T090000
DTEND;TZID=America/Marigot:20260207T170000
DTSTAMP:20260423T011619
CREATED:20260131T155632Z
LAST-MODIFIED:20260202T182357Z
UID:5073-1770454800-1770483600@wind-adventures.com
SUMMARY:Whales watching tour - Full day 130 € per person
DESCRIPTION:Whales watching tour – Full day 130 € – \nA full day catamaran trip to encounter humpback whales on the Anguilla bank. Whales aren’t not garanteed\, as they can be far\, our success rate is 85 %. On each tour\, you will: \n\nlearn about humpback whales on the Anguilla bank (certified guide)\nlisten with the hydrophone\nhave a stop on one of the island or beach for a swim or snorkeling\nenjoy a nice boat tour\n\n \n\n\n\n\n\n\n\n\n\n\n\n\n  \n\nCatamaran 12 passengers maximum\ntour confirmed with a minimum of 8 passengers\ndeparture from Orient beach\nincluded: drinks ( soft drinks and beers)\, Guide\, hydrophone\,\ncan be canceled due to bad weather\n\nLearn more about humback whales on the Anguilla bank \n  \n  \n 
URL:https://wind-adventures.com/event/whales-watching-tour-full-day-130-e-per-person-2/
CATEGORIES:Event,Shared charter,St Martin
ATTACH;FMTTYPE=image/jpeg:https://wind-adventures.com/wp-content/uploads/2025/06/whales_lagoon.jpg
END:VEVENT
BEGIN:VEVENT
DTSTART;TZID=America/Marigot:20260212T130000
DTEND;TZID=America/Marigot:20260212T170000
DTSTAMP:20260423T011619
CREATED:20260211T154942Z
LAST-MODIFIED:20260314T162745Z
UID:5201-1770901200-1770915600@wind-adventures.com
SUMMARY:Whales watching tour - Tintamarre - 4 hours 100 € per person
DESCRIPTION:Whales watching tour – 4 hours trip + Tintamarre island ( snorlkeling\, Sea turtles) 100 € – \nA 4 hours trip to encounter humpback whales on the Anguilla bank. Whales aren’t not garanteed\, as they can be far\, our success rate is 85 %. On each tour\, you will: \n\nlearn about humpback whales on the Anguilla bank (certified guide)\nlisten with the hydrophone\nhave a stop on one of the island or beach for a swim or snorkeling\nenjoy a nice boat tour and snorkeling in Tintamarre\n\n\n\n\n\n\n\n\n\n\n\n\n\n\nmotorboat 29 ft – 8 passengers maximum\ntour confirmed with a minimum of 7 passengers\ndeparture from Anse Marcel\nincluded: drinks ( soft drinks and beers)\, Guide\, hydrophone\,\ncan be canceled due to bad weather\n\nLearn more about humback whales on the Anguilla bank \n  \n  \n  \n 
URL:https://wind-adventures.com/event/whales-watching-tour-tintamarre-4-hours-100-e-per-person/
CATEGORIES:Event,Shared charter,St Martin
ATTACH;FMTTYPE=image/jpeg:https://wind-adventures.com/wp-content/uploads/2025/11/axopar_29_sun_top_grand_case_boat-charter.jpg
END:VEVENT
END:VCALENDAR