BEGIN:VCALENDAR
VERSION:2.0
PRODID:-//Wind Adventures - ECPv6.15.20//NONSGML v1.0//EN
CALSCALE:GREGORIAN
METHOD:PUBLISH
X-ORIGINAL-URL:https://wind-adventures.com
X-WR-CALDESC:Events for Wind Adventures
REFRESH-INTERVAL;VALUE=DURATION:PT1H
X-Robots-Tag:noindex
X-PUBLISHED-TTL:PT1H
BEGIN:VTIMEZONE
TZID:Asia/Karachi
BEGIN:STANDARD
TZOFFSETFROM:+0500
TZOFFSETTO:+0500
TZNAME:PKT
DTSTART:20250101T000000
END:STANDARD
END:VTIMEZONE
BEGIN:VEVENT
DTSTART;VALUE=DATE:20260111
DTEND;VALUE=DATE:20260112
DTSTAMP:20260423T052645
CREATED:20241104T084030Z
LAST-MODIFIED:20260112T013102Z
UID:56-1768089600-1768175999@wind-adventures.com
SUMMARY:Shared charter to Anguilla island - Price 195 € per person
DESCRIPTION:Motor boat day trip to Anguilla – (8 persons maximum) \n\nItinerary: Rendez-vous bay\, Cap Juluca\, Meads bay\, Sandy island\, Crocus bay\, Shoal bay\nincluded: clearance taxes\, drinks\, snorkkeling gear\, watermat. Not included : lunch
URL:https://wind-adventures.com/event/switzerland-summit-marks-for-adventure-travel/
CATEGORIES:Shared charter
ATTACH;FMTTYPE=image/jpeg:https://wind-adventures.com/wp-content/uploads/2025/08/axopar_view.jpg
ORGANIZER;CN="Wind adventures":MAILTO:info@wind-adventures.com
END:VEVENT
END:VCALENDAR