BEGIN:VCALENDAR
VERSION:2.0
PRODID:-//Wind Adventures - ECPv6.15.20//NONSGML v1.0//EN
CALSCALE:GREGORIAN
METHOD:PUBLISH
X-WR-CALNAME:Wind Adventures
X-ORIGINAL-URL:https://wind-adventures.com
X-WR-CALDESC:Events for Wind Adventures
REFRESH-INTERVAL;VALUE=DURATION:PT1H
X-Robots-Tag:noindex
X-PUBLISHED-TTL:PT1H
BEGIN:VTIMEZONE
TZID:America/Marigot
BEGIN:STANDARD
TZOFFSETFROM:-0400
TZOFFSETTO:-0400
TZNAME:AST
DTSTART:20240101T000000
END:STANDARD
END:VTIMEZONE
BEGIN:VTIMEZONE
TZID:America/New_York
BEGIN:DAYLIGHT
TZOFFSETFROM:-0500
TZOFFSETTO:-0400
TZNAME:EDT
DTSTART:20240310T070000
END:DAYLIGHT
BEGIN:STANDARD
TZOFFSETFROM:-0400
TZOFFSETTO:-0500
TZNAME:EST
DTSTART:20241103T060000
END:STANDARD
BEGIN:DAYLIGHT
TZOFFSETFROM:-0500
TZOFFSETTO:-0400
TZNAME:EDT
DTSTART:20250309T070000
END:DAYLIGHT
BEGIN:STANDARD
TZOFFSETFROM:-0400
TZOFFSETTO:-0500
TZNAME:EST
DTSTART:20251102T060000
END:STANDARD
BEGIN:DAYLIGHT
TZOFFSETFROM:-0500
TZOFFSETTO:-0400
TZNAME:EDT
DTSTART:20260308T070000
END:DAYLIGHT
BEGIN:STANDARD
TZOFFSETFROM:-0400
TZOFFSETTO:-0500
TZNAME:EST
DTSTART:20261101T060000
END:STANDARD
BEGIN:DAYLIGHT
TZOFFSETFROM:-0500
TZOFFSETTO:-0400
TZNAME:EDT
DTSTART:20270314T070000
END:DAYLIGHT
BEGIN:STANDARD
TZOFFSETFROM:-0400
TZOFFSETTO:-0500
TZNAME:EST
DTSTART:20271107T060000
END:STANDARD
END:VTIMEZONE
BEGIN:VTIMEZONE
TZID:Asia/Karachi
BEGIN:STANDARD
TZOFFSETFROM:+0500
TZOFFSETTO:+0500
TZNAME:PKT
DTSTART:20250101T000000
END:STANDARD
END:VTIMEZONE
BEGIN:VTIMEZONE
TZID:UTC
BEGIN:STANDARD
TZOFFSETFROM:+0000
TZOFFSETTO:+0000
TZNAME:UTC
DTSTART:20240101T000000
END:STANDARD
END:VTIMEZONE
BEGIN:VEVENT
DTSTART;TZID=America/Marigot:20260412T130000
DTEND;TZID=America/Marigot:20260412T170000
DTSTAMP:20260423T052844
CREATED:20260211T123555Z
LAST-MODIFIED:20260409T004904Z
UID:5200-1775998800-1776013200@wind-adventures.com
SUMMARY:Whales watching tour - 4 hours 100 € per person
DESCRIPTION:Whales watching tour – 4 hours trip 100 € – \nA 4 hours trip to encounter humpback whales on the Anguilla bank. Whales aren’t not garanteed\, as they can be far\, our success rate is 85 %. On each tour\, you will: \n\nlearn about humpback whales on the Anguilla bank (certified guide)\nlisten with the hydrophone\nhave a stop on one of the island or beach for a swim or snorkeling\nenjoy a nice boat tour\n\n\n\n\n\n\n\n\n\n\n\n\n\n\nmotorboat 29 ft – 8 passengers maximum\ntour confirmed with a minimum of 7 passengers\ndeparture from Anse Marcel\nincluded: drinks ( soft drinks and beers)\, Guide\, hydrophone\,\ncan be canceled due to bad weather\n\nLearn more about humback whales on the Anguilla bank \n  \n  \n  \n 
URL:https://wind-adventures.com/event/whales-watching-tour-4-hours-100-e-per-person-4/
LOCATION:Anse Marcel\, Anse MArcel Marina\, Collectivity of Saint Martin
CATEGORIES:Event,Shared charter,St Martin
ATTACH;FMTTYPE=image/jpeg:https://wind-adventures.com/wp-content/uploads/2025/11/axopar_29_sun_top_grand_case_boat-charter.jpg
END:VEVENT
BEGIN:VEVENT
DTSTART;TZID=America/Marigot:20260412T090000
DTEND;TZID=America/Marigot:20260412T130000
DTSTAMP:20260423T052844
CREATED:20260121T222333Z
LAST-MODIFIED:20260412T025714Z
UID:4969-1775984400-1775998800@wind-adventures.com
SUMMARY:Whales watching tour - 4 hours 95 € per person - departure Orient beach
DESCRIPTION:Whales watching tour – 4 hours 95 € – \nA 4 hours catamaran trip to encounter humpback whales on the Anguilla bank. Whales aren’t not garanteed\, as they can be far\, our success rate is 85 %. On each tour\, you will: \n\nlearn about humpback whales on the Anguilla bank (certified guide)\nlisten with the hydrophone\nhave a stop on one of the island or beach for a swim or snorkeling\nenjoy a nice boat tour\n\n \n\n\n\n\n\n\n\n\n\n\n\n\n  \n\nCatamaran 12 passengers maximum\ntour confirmed with a minimum of 8 passengers\ndeparture from Orient beach\nincluded: drinks ( soft drinks and beers)\, Guide\, hydrophone\,\ncan be canceled due to bad weather\n\nLearn more about humback whales on the Anguilla bank \n  \n  \n 
URL:https://wind-adventures.com/event/whales-watching-tour-full-day-130-e-per-person/
LOCATION:Orient beach (Between Le STring and Pirate hideout)\, Collectivity of Saint Martin
CATEGORIES:Event,Shared charter,St Martin
ATTACH;FMTTYPE=image/jpeg:https://wind-adventures.com/wp-content/uploads/2025/06/whales_lagoon.jpg
END:VEVENT
BEGIN:VEVENT
DTSTART;TZID=America/Marigot:20260328T090000
DTEND;TZID=America/Marigot:20260328T130000
DTSTAMP:20260423T052844
CREATED:20260118T150027Z
LAST-MODIFIED:20260325T002428Z
UID:4868-1774688400-1774702800@wind-adventures.com
SUMMARY:Whales watching tour - 4 hours 100 € per person (departure Anse Marcel)
DESCRIPTION:Whales watching tour – 4 hours trip 100 € – \nA 4 hours trip to encounter humpback whales on the Anguilla bank. Whales aren’t not garanteed\, as they can be far\, our success rate is 85 %. On each tour\, you will: \n\nlearn about humpback whales on the Anguilla bank (certified guide)\nlisten with the hydrophone\nhave a stop on one of the island or beach for a swim or snorkeling\nenjoy a nice boat tour\n\n\n\n\n\n\n\n\n\n\n\n\n\n\nmotorboat 29 ft – 8 passengers maximum\ntour confirmed with a minimum of 7 passengers\ndeparture from Anse Marcel\nincluded: drinks ( soft drinks and beers)\, Guide\, hydrophone\,\ncan be canceled due to bad weather\n\nLearn more about humback whales on the Anguilla bank \n  \n  \n  \n 
URL:https://wind-adventures.com/event/whales-watching-tour-4-hours-100-e-per-person-2/
LOCATION:Anse Marcel\, Anse MArcel Marina\, Collectivity of Saint Martin
CATEGORIES:Event,Shared charter,St Martin
ATTACH;FMTTYPE=image/jpeg:https://wind-adventures.com/wp-content/uploads/2025/11/axopar_29_sun_top_grand_case_boat-charter.jpg
ORGANIZER;CN="Wind adventures":MAILTO:info@wind-adventures.com
END:VEVENT
BEGIN:VEVENT
DTSTART;TZID=America/Marigot:20260320T090000
DTEND;TZID=America/Marigot:20260320T130000
DTSTAMP:20260423T052844
CREATED:20260201T023857Z
LAST-MODIFIED:20260325T175410Z
UID:5077-1773997200-1774011600@wind-adventures.com
SUMMARY:Whales watching tour - 4 hours 100 € per person (departure Anse Marcel)
DESCRIPTION:Whales watching tour – 4 hours trip 100 € – \nA 4 hours trip to encounter humpback whales on the Anguilla bank. Whales aren’t not garanteed\, as they can be far\, our success rate is 85 %. On each tour\, you will: \n\nlearn about humpback whales on the Anguilla bank (certified guide)\nlisten with the hydrophone\nhave a stop on one of the island or beach for a swim or snorkeling\nenjoy a nice boat tour\n\n\n\n\n\n\n\n\n\n\n\n\n\n\n\n\n\n\n\n\n\n\n\n\n\n\n\n\n\n\n\n\n\n\n\n\n\n\n  \n\nmotorboat 29 ft – 8 passengers maximum\ntour confirmed with a minimum of 7 passengers\ndeparture from Anse Marcel\nincluded: drinks ( soft drinks and beers)\, Guide\, hydrophone\,\ncan de canceled due to bad weather\n\nLearn more about humback whales on the Anguilla bank \n  \n  \n  \n 
URL:https://wind-adventures.com/event/whales-watching-tour-4-hours-100-e-per-person-3/
LOCATION:Anse Marcel\, Anse MArcel Marina\, Collectivity of Saint Martin
CATEGORIES:Event,Shared charter,Whales watching tour
ATTACH;FMTTYPE=image/jpeg:https://wind-adventures.com/wp-content/uploads/2025/11/axopar_29_sun_top_grand_case_boat-charter.jpg
END:VEVENT
BEGIN:VEVENT
DTSTART;TZID=America/New_York:20260319T090000
DTEND;TZID=America/New_York:20260319T130000
DTSTAMP:20260423T052844
CREATED:20260105T152931Z
LAST-MODIFIED:20260318T225049Z
UID:4756-1773910800-1773925200@wind-adventures.com
SUMMARY:Catamaran Half day shared charter  95 € per person
DESCRIPTION:Embark on a catamaran for a 4 hours sailing trip to Tintamarre island\, Pinel island\, Green cay island: \n\nsnorkelling\nobserve sea turtles\nrelax on the beach ( or on our large watermat)\n2 paddleboards\ndrinks included (softdrinks: Club Soda\, Ice tea\, Coke\, juice\, water; Carib beers; rosé.\n\nDeparture from Orient beach – departure 9 am – back 1 pm \n\n\n\n\n\n\n\n\n\n\n\n\n  \n  \n 
URL:https://wind-adventures.com/event/catamaran-half-day-shared-charter-95-e-per-person/
LOCATION:Orient beach (Between Le STring and Pirate hideout)\, Collectivity of Saint Martin
CATEGORIES:Shared charter
ATTACH;FMTTYPE=image/jpeg:https://wind-adventures.com/wp-content/uploads/2025/08/lagoon_tintamare-scaled.jpg
END:VEVENT
BEGIN:VEVENT
DTSTART;VALUE=DATE:20260318
DTEND;VALUE=DATE:20260319
DTSTAMP:20260423T052844
CREATED:20241104T084030Z
LAST-MODIFIED:20260316T173842Z
UID:55-1773792000-1773878399@wind-adventures.com
SUMMARY:Shared charter - Kitesurf/wingfoil trip to Anguilla / downwinder / Anguilla to St Martin crossing -185 € per person
DESCRIPTION:Experience downwinders\, island- crossing with our expert. Captain and instructor to ensure you safety. \n \n\n \n\n\n\n\n\n\n\nIncluded: \n\nassistance and pro instructor\n2 downwinders (must be independent).\nclearance taxes\ndrinks\, snorkeling gear\n\n \nNot included: \n\nlunch\ngear\n\n\n\n\n\n\n\n\n\n\n\n\n\nKite/wingfoil trip Anguilla shared charter – 185 € per person (minimum of 7 persons to confirm the trip) \n\n\n\n\n\n\n\n\n\n\n\n\n\n\n\n\n\n\n\n\n  \n 
URL:https://wind-adventures.com/event/kitesurf-trip-st-martin-wingfoil/
LOCATION:Anse marcel Marina\, Collectivity of Saint Martin
CATEGORIES:Shared charter
ATTACH;FMTTYPE=image/jpeg:https://wind-adventures.com/wp-content/uploads/2025/08/kite_trip_anguilla_rendez_vous.jpg
END:VEVENT
BEGIN:VEVENT
DTSTART;TZID=America/New_York:20260305T150000
DTEND;TZID=America/New_York:20260305T180000
DTSTAMP:20260423T052844
CREATED:20260107T024751Z
LAST-MODIFIED:20260209T135908Z
UID:4772-1772722800-1772733600@wind-adventures.com
SUMMARY:Catamaran Sunset (Tintamarre)  shared charter  75 € per person -3 hours
DESCRIPTION:Embark on a catamaran sunset for a 3 hours sailing trip to Tintamare island – Green cay \n\nsnorkelling\nobserve sea turtles\nrelax on the beach ( or on our large watermat)\ndrinks included ( softdrinks: Club Soda\, Ice tea\, Coke\, juice\, water) \, beers and rosé.\nDeparture  from Orient beach\n\nDeparture from Orient beach 3 pm – Back 6 pm \n  \n  \n  \n 
URL:https://wind-adventures.com/event/catamaran-sunset-tintamare-shared-charter-70-e-per-person-3-hours/
CATEGORIES:Shared charter
ATTACH;FMTTYPE=image/jpeg:https://wind-adventures.com/wp-content/uploads/2025/07/st_barth_sunset_colombier.jpg
END:VEVENT
BEGIN:VEVENT
DTSTART;TZID=America/Marigot:20260212T130000
DTEND;TZID=America/Marigot:20260212T170000
DTSTAMP:20260423T052844
CREATED:20260211T154942Z
LAST-MODIFIED:20260314T162745Z
UID:5201-1770901200-1770915600@wind-adventures.com
SUMMARY:Whales watching tour - Tintamarre - 4 hours 100 € per person
DESCRIPTION:Whales watching tour – 4 hours trip + Tintamarre island ( snorlkeling\, Sea turtles) 100 € – \nA 4 hours trip to encounter humpback whales on the Anguilla bank. Whales aren’t not garanteed\, as they can be far\, our success rate is 85 %. On each tour\, you will: \n\nlearn about humpback whales on the Anguilla bank (certified guide)\nlisten with the hydrophone\nhave a stop on one of the island or beach for a swim or snorkeling\nenjoy a nice boat tour and snorkeling in Tintamarre\n\n\n\n\n\n\n\n\n\n\n\n\n\n\nmotorboat 29 ft – 8 passengers maximum\ntour confirmed with a minimum of 7 passengers\ndeparture from Anse Marcel\nincluded: drinks ( soft drinks and beers)\, Guide\, hydrophone\,\ncan be canceled due to bad weather\n\nLearn more about humback whales on the Anguilla bank \n  \n  \n  \n 
URL:https://wind-adventures.com/event/whales-watching-tour-tintamarre-4-hours-100-e-per-person/
CATEGORIES:Event,Shared charter,St Martin
ATTACH;FMTTYPE=image/jpeg:https://wind-adventures.com/wp-content/uploads/2025/11/axopar_29_sun_top_grand_case_boat-charter.jpg
END:VEVENT
BEGIN:VEVENT
DTSTART;TZID=America/Marigot:20260207T090000
DTEND;TZID=America/Marigot:20260207T170000
DTSTAMP:20260423T052844
CREATED:20260131T155632Z
LAST-MODIFIED:20260202T182357Z
UID:5073-1770454800-1770483600@wind-adventures.com
SUMMARY:Whales watching tour - Full day 130 € per person
DESCRIPTION:Whales watching tour – Full day 130 € – \nA full day catamaran trip to encounter humpback whales on the Anguilla bank. Whales aren’t not garanteed\, as they can be far\, our success rate is 85 %. On each tour\, you will: \n\nlearn about humpback whales on the Anguilla bank (certified guide)\nlisten with the hydrophone\nhave a stop on one of the island or beach for a swim or snorkeling\nenjoy a nice boat tour\n\n \n\n\n\n\n\n\n\n\n\n\n\n\n  \n\nCatamaran 12 passengers maximum\ntour confirmed with a minimum of 8 passengers\ndeparture from Orient beach\nincluded: drinks ( soft drinks and beers)\, Guide\, hydrophone\,\ncan be canceled due to bad weather\n\nLearn more about humback whales on the Anguilla bank \n  \n  \n 
URL:https://wind-adventures.com/event/whales-watching-tour-full-day-130-e-per-person-2/
CATEGORIES:Event,Shared charter,St Martin
ATTACH;FMTTYPE=image/jpeg:https://wind-adventures.com/wp-content/uploads/2025/06/whales_lagoon.jpg
END:VEVENT
BEGIN:VEVENT
DTSTART;TZID=America/New_York:20260205T150000
DTEND;TZID=America/New_York:20260205T180000
DTSTAMP:20260423T052844
CREATED:20260108T185157Z
LAST-MODIFIED:20260118T152528Z
UID:4799-1770303600-1770314400@wind-adventures.com
SUMMARY:Catamaran Sunset (Tintamarre)  shared charter  75 € per person -3 hours
DESCRIPTION:Embark on a catamaran sunset for a 3 hours sailing trip to Tintamare island – Green cay \n\nsnorkelling\nobserve sea turtles\nrelax on the beach ( or on our large watermat)\ndrinks included ( softdrinks: Club Soda\, Ice tea\, Coke\, juice\, water) \, beers and rosé.\ndDeparture ture from Orient beach\n\nDeparture from Orient beach 3 pm – Back 6 pm \n  \n  \n  \n 
URL:https://wind-adventures.com/event/catamaran-sunset-tintamarre-shared-charter-75-e-per-person-3-hours/
CATEGORIES:Shared charter
ATTACH;FMTTYPE=image/jpeg:https://wind-adventures.com/wp-content/uploads/2025/07/st_barth_sunset_colombier.jpg
END:VEVENT
BEGIN:VEVENT
DTSTART;TZID=America/Marigot:20260203T090000
DTEND;TZID=America/Marigot:20260203T130000
DTSTAMP:20260423T052844
CREATED:20260117T153810Z
LAST-MODIFIED:20260202T023305Z
UID:4849-1770109200-1770123600@wind-adventures.com
SUMMARY:Whales watching tour - 4 hours 100 € per person
DESCRIPTION:Whales watching tour – 4 hours trip 100 € – \nA 4 hours trip to encounter humpback whales on the Anguilla bank. Whales aren’t not garanteed\, as they can be far\, our success rate is 85 %. On each tour\, you will: \n\nlearn about humpback whales on the Anguilla bank (certified guide)\nlisten with the hydrophone\nhave a stop on one of the island or beach for a swim or snorkeling\nenjoy a nice boat tour\n\n\n\n\n\n\n\n\n\n\n\n\n\n\n\n\n\n\n\n\n\n\n\n\n\n\n\n\n\n\n\n\n\n\n\n\n\n\n  \n\nmotorboat 29 ft – 8 passengers maximum\ntour confirmed with a minimum of 7 passengers\ndeparture from Anse Marcel\nincluded: drinks ( soft drinks and beers)\, Guide\, hydrophone\,\ncan de canceled due to bad weather\n\nLearn more about humback whales on the Anguilla bank \n  \n  \n  \n 
URL:https://wind-adventures.com/event/whales-watching-tour-4-hours-100-e-per-person/
CATEGORIES:Event,Shared charter,Whales watching tour
ATTACH;FMTTYPE=image/jpeg:https://wind-adventures.com/wp-content/uploads/2025/11/axopar_29_sun_top_grand_case_boat-charter.jpg
END:VEVENT
BEGIN:VEVENT
DTSTART;VALUE=DATE:20260111
DTEND;VALUE=DATE:20260112
DTSTAMP:20260423T052844
CREATED:20241104T084030Z
LAST-MODIFIED:20260112T013102Z
UID:56-1768089600-1768175999@wind-adventures.com
SUMMARY:Shared charter to Anguilla island - Price 195 € per person
DESCRIPTION:Motor boat day trip to Anguilla – (8 persons maximum) \n\nItinerary: Rendez-vous bay\, Cap Juluca\, Meads bay\, Sandy island\, Crocus bay\, Shoal bay\nincluded: clearance taxes\, drinks\, snorkkeling gear\, watermat. Not included : lunch
URL:https://wind-adventures.com/event/switzerland-summit-marks-for-adventure-travel/
CATEGORIES:Shared charter
ATTACH;FMTTYPE=image/jpeg:https://wind-adventures.com/wp-content/uploads/2025/08/axopar_view.jpg
ORGANIZER;CN="Wind adventures":MAILTO:info@wind-adventures.com
END:VEVENT
BEGIN:VEVENT
DTSTART;VALUE=DATE:20251221
DTEND;VALUE=DATE:20251222
DTSTAMP:20260423T052844
CREATED:20241104T084009Z
LAST-MODIFIED:20251215T180425Z
UID:53-1766275200-1766361599@wind-adventures.com
SUMMARY:Kitesurf / wingfoil trip to Anguilla - Zodiac Pro - 150 € per person
DESCRIPTION:Kitesurf/ wingfoil trip to Anguilla ( 6 persons to confirm the trip) Price 150 € per person \nRide in Rendez-vous bay\, experioence a downwinder on the east coast\, Ride Sandy Island or do the Anguilla -> St Martin crossing. \nSafety boat with a Zodiac Pro 7 motorboat and expert instructor. \nIncluded:  assistance\, drinks\, clerance taxes. \nNot included: gear (rental possible)\, lunch \nLevel required: must be experience in deep water\, riding upwind capabilities.
URL:https://wind-adventures.com/event/trip-to-anguilla/
CATEGORIES:Shared charter
ATTACH;FMTTYPE=image/jpeg:https://wind-adventures.com/wp-content/uploads/2025/07/zodiac_surf_trip.jpg
END:VEVENT
BEGIN:VEVENT
DTSTART;TZID=America/Marigot:20251211T130000
DTEND;TZID=America/Marigot:20251211T170000
DTSTAMP:20260423T052844
CREATED:20241104T084009Z
LAST-MODIFIED:20260209T135446Z
UID:54-1765458000-1765472400@wind-adventures.com
SUMMARY:Shared charter - 4 hours St Martin boat tour
DESCRIPTION:Shared charter -in St Martin\, 4 hours boat tour \nIncluded: drinks\, snorkelling gear\,1 paddleboard\, 1 watermat\, clearance taxes \nDeparture 9 am from Anse Marcel ( untill 1 pm) \n  \n.
URL:https://wind-adventures.com/event/adventures-and-connections-make-for-networking/
CATEGORIES:Shared charter
ATTACH;FMTTYPE=image/jpeg:https://wind-adventures.com/wp-content/uploads/2025/08/axopar_hello.jpg
END:VEVENT
BEGIN:VEVENT
DTSTART;VALUE=DATE:20251205
DTEND;VALUE=DATE:20251206
DTSTAMP:20260423T052844
CREATED:20251128T210419Z
LAST-MODIFIED:20251128T211034Z
UID:4455-1764892800-1764979199@wind-adventures.com
SUMMARY:Shared charter to St Barth' - Celebrate Johnny Halliday's memory
DESCRIPTION:Shared charter to St Barth abord motorboat Axopar 29 \nStop in : \n\nLorient (Cimetery)\nSt Jean\nColombier\nGustavia ( Bar de l’oubli\, shops)\nShell beach\nGouverneur\n\nAboard: \n\nJohnny’s music!\ndrinks\nsnorkelling gear\nwatermat\n\nPrice 190 € per person
URL:https://wind-adventures.com/event/shared-charter-to-st-barth-celebrate-johny-hallidays-memory/
CATEGORIES:Shared charter,St Martin
ATTACH;FMTTYPE=image/jpeg:https://wind-adventures.com/wp-content/uploads/2025/08/axopar_view.jpg
END:VEVENT
BEGIN:VEVENT
DTSTART;VALUE=DATE:20251204
DTEND;VALUE=DATE:20251205
DTSTAMP:20260423T052844
CREATED:20241104T084009Z
LAST-MODIFIED:20251201T211335Z
UID:51-1764806400-1764892799@wind-adventures.com
SUMMARY:Catamaran day trip St Martin - Shared charter - 135 € per person
DESCRIPTION:Catamaran day trip – (up to 12 persons) – Shared charter in St Martin\n\nTintamare island\nCreole rock\nPinel Island\nGreen cay island\nincluded: drinks\, snorkelling gear\, 2 paddleboard\, large watermat\, Marine Park taxes\nNot included: lunch.\ndeparture 9 am from Orient bay – Back at 5 pm\ntake your lunch ( or possibility to stop on Pinel island at 2 pm)\n\n    \n 
URL:https://wind-adventures.com/event/shared-charter-in-st-martin/
CATEGORIES:Shared charter
ATTACH;FMTTYPE=image/jpeg:https://wind-adventures.com/wp-content/uploads/2025/08/lagoon_tintamare-1-scaled.jpg
END:VEVENT
BEGIN:VEVENT
DTSTART;VALUE=DATE:20251205
DTEND;VALUE=DATE:20251206
DTSTAMP:20260423T052844
CREATED:20251128T194059Z
LAST-MODIFIED:20251128T210531Z
UID:4448-1764892800-1764979199@wind-adventures.com
SUMMARY:Shared charter - Johnny Halliday celebration in St Barth'
DESCRIPTION:Shared charter to St Barth’ to celebrate Johnny Halliday’s memory. \nIncluded: drinks\, snorkelling gear\,1 paddleboard\, 1 watermat\, clearance taxes \nDeparture 9 am from Anse Marcel – back 5 pm \n  \n \nItinerary: Fourche island\, Gustavia ( Bar de l’Oubli\, Select\, shops)\, Shell beach\, Gouverneur\, Colombier\, St Jean\, Lorient. \nIncluded: Johny halliday music! \nPrice 185 € per person
URL:https://wind-adventures.com/event/shared-charter-johny-halliday-celebration-in-st-barth/
CATEGORIES:Event,Shared charter,St Martin
ATTACH;FMTTYPE=image/jpeg:https://wind-adventures.com/wp-content/uploads/2025/08/axopar_hello.jpg
ORGANIZER;CN="Wind adventures":MAILTO:info@wind-adventures.com
END:VEVENT
END:VCALENDAR