BEGIN:VCALENDAR
VERSION:2.0
PRODID:-//Wind Adventures - ECPv6.15.20//NONSGML v1.0//EN
CALSCALE:GREGORIAN
METHOD:PUBLISH
X-WR-CALNAME:Wind Adventures
X-ORIGINAL-URL:https://wind-adventures.com
X-WR-CALDESC:Events for Wind Adventures
REFRESH-INTERVAL;VALUE=DURATION:PT1H
X-Robots-Tag:noindex
X-PUBLISHED-TTL:PT1H
BEGIN:VTIMEZONE
TZID:America/Marigot
BEGIN:STANDARD
TZOFFSETFROM:-0400
TZOFFSETTO:-0400
TZNAME:AST
DTSTART:20250101T000000
END:STANDARD
END:VTIMEZONE
BEGIN:VEVENT
DTSTART;TZID=America/Marigot:20260412T090000
DTEND;TZID=America/Marigot:20260412T130000
DTSTAMP:20260422T213126
CREATED:20260121T222333Z
LAST-MODIFIED:20260412T025714Z
UID:4969-1775984400-1775998800@wind-adventures.com
SUMMARY:Whales watching tour - 4 hours 95 € per person - departure Orient beach
DESCRIPTION:Whales watching tour – 4 hours 95 € – \nA 4 hours catamaran trip to encounter humpback whales on the Anguilla bank. Whales aren’t not garanteed\, as they can be far\, our success rate is 85 %. On each tour\, you will: \n\nlearn about humpback whales on the Anguilla bank (certified guide)\nlisten with the hydrophone\nhave a stop on one of the island or beach for a swim or snorkeling\nenjoy a nice boat tour\n\n \n\n\n\n\n\n\n\n\n\n\n\n\n  \n\nCatamaran 12 passengers maximum\ntour confirmed with a minimum of 8 passengers\ndeparture from Orient beach\nincluded: drinks ( soft drinks and beers)\, Guide\, hydrophone\,\ncan be canceled due to bad weather\n\nLearn more about humback whales on the Anguilla bank \n  \n  \n 
URL:https://wind-adventures.com/event/whales-watching-tour-full-day-130-e-per-person/
LOCATION:Orient beach (Between Le STring and Pirate hideout)\, Collectivity of Saint Martin
CATEGORIES:Event,Shared charter,St Martin
ATTACH;FMTTYPE=image/jpeg:https://wind-adventures.com/wp-content/uploads/2025/06/whales_lagoon.jpg
END:VEVENT
BEGIN:VEVENT
DTSTART;TZID=America/Marigot:20260412T130000
DTEND;TZID=America/Marigot:20260412T170000
DTSTAMP:20260422T213126
CREATED:20260211T123555Z
LAST-MODIFIED:20260409T004904Z
UID:5200-1775998800-1776013200@wind-adventures.com
SUMMARY:Whales watching tour - 4 hours 100 € per person
DESCRIPTION:Whales watching tour – 4 hours trip 100 € – \nA 4 hours trip to encounter humpback whales on the Anguilla bank. Whales aren’t not garanteed\, as they can be far\, our success rate is 85 %. On each tour\, you will: \n\nlearn about humpback whales on the Anguilla bank (certified guide)\nlisten with the hydrophone\nhave a stop on one of the island or beach for a swim or snorkeling\nenjoy a nice boat tour\n\n\n\n\n\n\n\n\n\n\n\n\n\n\nmotorboat 29 ft – 8 passengers maximum\ntour confirmed with a minimum of 7 passengers\ndeparture from Anse Marcel\nincluded: drinks ( soft drinks and beers)\, Guide\, hydrophone\,\ncan be canceled due to bad weather\n\nLearn more about humback whales on the Anguilla bank \n  \n  \n  \n 
URL:https://wind-adventures.com/event/whales-watching-tour-4-hours-100-e-per-person-4/
LOCATION:Anse Marcel\, Anse MArcel Marina\, Collectivity of Saint Martin
CATEGORIES:Event,Shared charter,St Martin
ATTACH;FMTTYPE=image/jpeg:https://wind-adventures.com/wp-content/uploads/2025/11/axopar_29_sun_top_grand_case_boat-charter.jpg
END:VEVENT
END:VCALENDAR