BEGIN:VCALENDAR
VERSION:2.0
PRODID:-//Wind Adventures - ECPv6.15.20//NONSGML v1.0//EN
CALSCALE:GREGORIAN
METHOD:PUBLISH
X-ORIGINAL-URL:https://wind-adventures.com
X-WR-CALDESC:Events for Wind Adventures
REFRESH-INTERVAL;VALUE=DURATION:PT1H
X-Robots-Tag:noindex
X-PUBLISHED-TTL:PT1H
BEGIN:VTIMEZONE
TZID:America/New_York
BEGIN:DAYLIGHT
TZOFFSETFROM:-0500
TZOFFSETTO:-0400
TZNAME:EDT
DTSTART:20250309T070000
END:DAYLIGHT
BEGIN:STANDARD
TZOFFSETFROM:-0400
TZOFFSETTO:-0500
TZNAME:EST
DTSTART:20251102T060000
END:STANDARD
BEGIN:DAYLIGHT
TZOFFSETFROM:-0500
TZOFFSETTO:-0400
TZNAME:EDT
DTSTART:20260308T070000
END:DAYLIGHT
BEGIN:STANDARD
TZOFFSETFROM:-0400
TZOFFSETTO:-0500
TZNAME:EST
DTSTART:20261101T060000
END:STANDARD
BEGIN:DAYLIGHT
TZOFFSETFROM:-0500
TZOFFSETTO:-0400
TZNAME:EDT
DTSTART:20270314T070000
END:DAYLIGHT
BEGIN:STANDARD
TZOFFSETFROM:-0400
TZOFFSETTO:-0500
TZNAME:EST
DTSTART:20271107T060000
END:STANDARD
END:VTIMEZONE
BEGIN:VEVENT
DTSTART;TZID=America/New_York:20260305T150000
DTEND;TZID=America/New_York:20260305T180000
DTSTAMP:20260423T011554
CREATED:20260107T024751Z
LAST-MODIFIED:20260209T135908Z
UID:4772-1772722800-1772733600@wind-adventures.com
SUMMARY:Catamaran Sunset (Tintamarre)  shared charter  75 € per person -3 hours
DESCRIPTION:Embark on a catamaran sunset for a 3 hours sailing trip to Tintamare island – Green cay \n\nsnorkelling\nobserve sea turtles\nrelax on the beach ( or on our large watermat)\ndrinks included ( softdrinks: Club Soda\, Ice tea\, Coke\, juice\, water) \, beers and rosé.\nDeparture  from Orient beach\n\nDeparture from Orient beach 3 pm – Back 6 pm \n  \n  \n  \n 
URL:https://wind-adventures.com/event/catamaran-sunset-tintamare-shared-charter-70-e-per-person-3-hours/
CATEGORIES:Shared charter
ATTACH;FMTTYPE=image/jpeg:https://wind-adventures.com/wp-content/uploads/2025/07/st_barth_sunset_colombier.jpg
END:VEVENT
END:VCALENDAR